BEGIN:VCALENDAR
VERSION:2.0
PRODID:-//Vista Ranch - ECPv4.6.18//NONSGML v1.0//EN
CALSCALE:GREGORIAN
METHOD:PUBLISH
X-WR-CALNAME:Vista Ranch
X-ORIGINAL-URL:https://vistaranch.com
X-WR-CALDESC:Events for Vista Ranch
BEGIN:VEVENT
DTSTART;TZID=UTC+0:20170828T173000
DTEND;TZID=UTC+0:20170828T203000
DTSTAMP:20260425T040330
CREATED:20170618T225958Z
LAST-MODIFIED:20170801T212857Z
UID:2549-1503941400-1503952200@vistaranch.com
SUMMARY:Brush 'n' Barrel - Flutter Butterfly
DESCRIPTION:Brush ‘n’ Barrel is a paint and sip workshop class taught by the fabulous Wendy Bright. Every course is 2 hours\, all the supplies are included\, and you take home your very own masterpiece. Purchase tickets at http://store.vistacellars.com \nDoors Open at 5:30 p.m. \nPaintings Starts at 6:30 p.m. \n \n  \n
URL:https://vistaranch.com/event/brush-n-barrel-flutter-butterfly/
LOCATION:7326 East Highway 140\, Merced\, 95340
ORGANIZER;CN="Vista%20Cellars-%20Brush%20%27n%27%20Barrel":MAILTO:events@vistacellars.com
END:VEVENT
END:VCALENDAR